BEGIN:VCALENDAR
VERSION:2.0
PRODID:-//待光庵 - ECPv4.8.2//NONSGML v1.0//EN
CALSCALE:GREGORIAN
METHOD:PUBLISH
X-WR-CALNAME:待光庵
X-ORIGINAL-URL:https://www.taikoan.jp
X-WR-CALDESC:Events for 待光庵
BEGIN:VEVENT
DTSTART;TZID=Asia/Tokyo:20161029T100000
DTEND;TZID=Asia/Tokyo:20161029T100000
DTSTAMP:20260423T133444
CREATED:20160912T074727Z
LAST-MODIFIED:20160912T074727Z
UID:4034-1477735200-1477735200@www.taikoan.jp
SUMMARY:『心の花』講演会
DESCRIPTION:
URL:https://www.taikoan.jp/event/%e3%80%8e%e5%bf%83%e3%81%ae%e8%8a%b1%e3%80%8f%e8%ac%9b%e6%bc%94%e4%bc%9a/
LOCATION:芳月\, 南区相模大野3-13-13 第2タカビル\, 相模原市\, 神奈川県\, 252-0303\, Japan
CATEGORIES:行事
END:VEVENT
END:VCALENDAR