BEGIN:VCALENDAR
VERSION:2.0
PRODID:-//待光庵 - ECPv4.8.2//NONSGML v1.0//EN
CALSCALE:GREGORIAN
METHOD:PUBLISH
X-WR-CALNAME:待光庵
X-ORIGINAL-URL:https://www.taikoan.jp
X-WR-CALDESC:Events for 待光庵
BEGIN:VEVENT
DTSTART;VALUE=DATE:20190428
DTEND;VALUE=DATE:20190507
DTSTAMP:20260420T183547
CREATED:20190419T133910Z
LAST-MODIFIED:20190419T134054Z
UID:7670-1556409600-1557187199@www.taikoan.jp
SUMMARY:ゴールデンウィーク
DESCRIPTION:
URL:https://www.taikoan.jp/event/%e3%82%b4%e3%83%bc%e3%83%ab%e3%83%87%e3%83%b3%e3%82%a6%e3%82%a3%e3%83%bc%e3%82%af/
CATEGORIES:行事
END:VEVENT
END:VCALENDAR