BEGIN:VCALENDAR
VERSION:2.0
PRODID:-//待光庵 - ECPv4.8.2//NONSGML v1.0//EN
CALSCALE:GREGORIAN
METHOD:PUBLISH
X-WR-CALNAME:待光庵
X-ORIGINAL-URL:https://www.taikoan.jp
X-WR-CALDESC:Events for 待光庵
BEGIN:VEVENT
DTSTART;TZID=Asia/Tokyo:20140805T133000
DTEND;TZID=Asia/Tokyo:20140805T133000
DTSTAMP:20260420T030015
CREATED:20140725T075925Z
LAST-MODIFIED:20140725T081003Z
UID:1707-1407245400-1407245400@www.taikoan.jp
SUMMARY:テーブル教室-1
DESCRIPTION:
URL:https://www.taikoan.jp/event/%e3%83%86%e3%83%bc%e3%83%96%e3%83%ab%e6%95%99%e5%ae%a4-1-4/
LOCATION:芳月\, 南区相模大野3-13-13 第2タカビル\, 相模原市\, 神奈川県\, 252-0303\, Japan
CATEGORIES:茶道教室
END:VEVENT
END:VCALENDAR