BEGIN:VCALENDAR
VERSION:2.0
PRODID:-//待光庵 - ECPv4.8.2//NONSGML v1.0//EN
CALSCALE:GREGORIAN
METHOD:PUBLISH
X-WR-CALNAME:待光庵
X-ORIGINAL-URL:https://www.taikoan.jp
X-WR-CALDESC:Events for 待光庵
BEGIN:VEVENT
DTSTART;TZID=Asia/Tokyo:20141216T133000
DTEND;TZID=Asia/Tokyo:20141216T133000
DTSTAMP:20260420T193835
CREATED:20141121T052922Z
LAST-MODIFIED:20141121T053438Z
UID:2091-1418736600-1418736600@www.taikoan.jp
SUMMARY:テーブル教室-2（口切茶事）
DESCRIPTION:
URL:https://www.taikoan.jp/event/%e3%83%86%e3%83%bc%e3%83%96%e3%83%ab%e6%95%99%e5%ae%a4-2%ef%bc%88%e5%8f%a3%e5%88%87%e8%8c%b6%e4%ba%8b%ef%bc%89/
LOCATION:直心庵\, 南区相模大野3-13-13 第2タカビル\, 相模原市\, 神奈川県\, 252-0303\, Japan
CATEGORIES:茶道教室
END:VEVENT
END:VCALENDAR