BEGIN:VCALENDAR
VERSION:2.0
PRODID:-//待光庵 - ECPv4.8.2//NONSGML v1.0//EN
CALSCALE:GREGORIAN
METHOD:PUBLISH
X-WR-CALNAME:待光庵
X-ORIGINAL-URL:https://www.taikoan.jp
X-WR-CALDESC:Events for 待光庵
BEGIN:VEVENT
DTSTART;VALUE=DATE:20180729
DTEND;VALUE=DATE:20180730
DTSTAMP:20260420T200115
CREATED:20180517T054624Z
LAST-MODIFIED:20180620T084551Z
UID:6572-1532822400-1532908799@www.taikoan.jp
SUMMARY:30周年記念茶会
DESCRIPTION:
URL:https://www.taikoan.jp/event/%e4%b8%89%e5%8d%81%e5%91%a8%e5%b9%b4%e8%a8%98%e5%bf%b5%e8%8c%b6%e4%bc%9a-2/
LOCATION:待光庵\, 南区相模大野3-13-13 第2タカビル\, 相模原市\, 神奈川県\, 252-0303\, Japan
CATEGORIES:行事
END:VEVENT
END:VCALENDAR