BEGIN:VCALENDAR
VERSION:2.0
PRODID:-//待光庵 - ECPv4.8.2//NONSGML v1.0//EN
CALSCALE:GREGORIAN
METHOD:PUBLISH
X-WR-CALNAME:待光庵
X-ORIGINAL-URL:https://www.taikoan.jp
X-WR-CALDESC:Events for 待光庵
BEGIN:VEVENT
DTSTART;TZID=Asia/Tokyo:20251021T090000
DTEND;TZID=Asia/Tokyo:20251021T090000
DTSTAMP:20260423T034530
CREATED:20250928T003031Z
LAST-MODIFIED:20250928T003031Z
UID:13216-1761037200-1761037200@www.taikoan.jp
SUMMARY:主催茶事-2
DESCRIPTION:
URL:https://www.taikoan.jp/event/%e4%b8%bb%e5%82%ac%e8%8c%b6%e4%ba%8b-2-58/
CATEGORIES:行事
END:VEVENT
END:VCALENDAR