BEGIN:VCALENDAR
VERSION:2.0
PRODID:-//待光庵 - ECPv4.8.2//NONSGML v1.0//EN
CALSCALE:GREGORIAN
METHOD:PUBLISH
X-WR-CALNAME:待光庵
X-ORIGINAL-URL:https://www.taikoan.jp
X-WR-CALDESC:Events for 待光庵
BEGIN:VEVENT
DTSTART;TZID=Asia/Tokyo:20180924T100000
DTEND;TZID=Asia/Tokyo:20180924T100000
DTSTAMP:20260420T232107
CREATED:20180823T064550Z
LAST-MODIFIED:20180823T064550Z
UID:6868-1537783200-1537783200@www.taikoan.jp
SUMMARY:主催茶事-3
DESCRIPTION:
URL:https://www.taikoan.jp/event/%e4%b8%bb%e5%82%ac%e8%8c%b6%e4%ba%8b-3-17/
LOCATION:静幸庵\, 南区御園3-16-15\, 相模原市\, 神奈川県\, Japan
CATEGORIES:行事
END:VEVENT
END:VCALENDAR