BEGIN:VCALENDAR
VERSION:2.0
PRODID:-//待光庵 - ECPv4.8.2//NONSGML v1.0//EN
CALSCALE:GREGORIAN
METHOD:PUBLISH
X-WR-CALNAME:待光庵
X-ORIGINAL-URL:https://www.taikoan.jp
X-WR-CALDESC:Events for 待光庵
BEGIN:VEVENT
DTSTART;TZID=Asia/Tokyo:20250724T082000
DTEND;TZID=Asia/Tokyo:20250724T082000
DTSTAMP:20260423T141652
CREATED:20250630T054433Z
LAST-MODIFIED:20250630T054433Z
UID:13063-1753345200-1753345200@www.taikoan.jp
SUMMARY:主催茶事-5
DESCRIPTION:
URL:https://www.taikoan.jp/event/%e4%b8%bb%e5%82%ac%e8%8c%b6%e4%ba%8b-5-28/
LOCATION:静幸庵\, 南区御園3-16-15\, 相模原市\, 神奈川県\, Japan
CATEGORIES:行事
END:VEVENT
END:VCALENDAR