BEGIN:VCALENDAR
VERSION:2.0
PRODID:-//待光庵 - ECPv4.8.2//NONSGML v1.0//EN
CALSCALE:GREGORIAN
METHOD:PUBLISH
X-WR-CALNAME:待光庵
X-ORIGINAL-URL:https://www.taikoan.jp
X-WR-CALDESC:Events for 待光庵
BEGIN:VEVENT
DTSTART;VALUE=DATE:20170129
DTEND;VALUE=DATE:20170130
DTSTAMP:20260421T151059
CREATED:20161215T074332Z
LAST-MODIFIED:20161215T074332Z
UID:4355-1485648000-1485734399@www.taikoan.jp
SUMMARY:出張行事
DESCRIPTION:
URL:https://www.taikoan.jp/event/%e5%87%ba%e5%bc%b5%e8%a1%8c%e4%ba%8b-2/
CATEGORIES:行事
END:VEVENT
END:VCALENDAR