BEGIN:VCALENDAR
VERSION:2.0
PRODID:-//待光庵 - ECPv4.8.2//NONSGML v1.0//EN
CALSCALE:GREGORIAN
METHOD:PUBLISH
X-WR-CALNAME:待光庵
X-ORIGINAL-URL:https://www.taikoan.jp
X-WR-CALDESC:Events for 待光庵
BEGIN:VEVENT
DTSTART;VALUE=DATE:20171027
DTEND;VALUE=DATE:20171030
DTSTAMP:20260422T001746
CREATED:20170914T062728Z
LAST-MODIFIED:20170914T065004Z
UID:5277-1509062400-1509321599@www.taikoan.jp
SUMMARY:和合の茶会（奄美大島）
DESCRIPTION:
URL:https://www.taikoan.jp/event/%e5%92%8c%e5%90%88%e3%81%ae%e8%8c%b6%e4%bc%9a%ef%bc%88%e5%a5%84%e7%be%8e%e5%a4%a7%e5%b3%b6%ef%bc%89-2/
CATEGORIES:行事
END:VEVENT
END:VCALENDAR