BEGIN:VCALENDAR
VERSION:2.0
PRODID:-//待光庵 - ECPv4.8.2//NONSGML v1.0//EN
CALSCALE:GREGORIAN
METHOD:PUBLISH
X-WR-CALNAME:待光庵
X-ORIGINAL-URL:https://www.taikoan.jp
X-WR-CALDESC:Events for 待光庵
BEGIN:VEVENT
DTSTART;VALUE=DATE:20180813
DTEND;VALUE=DATE:20180816
DTSTAMP:20260421T054457
CREATED:20180620T083659Z
LAST-MODIFIED:20180620T084826Z
UID:6747-1534118400-1534377599@www.taikoan.jp
SUMMARY:夏季休暇
DESCRIPTION:
URL:https://www.taikoan.jp/event/%e5%a4%8f%e5%ad%a3%e4%bc%91%e6%9a%87-2/
CATEGORIES:行事
END:VEVENT
END:VCALENDAR