BEGIN:VCALENDAR
VERSION:2.0
PRODID:-//待光庵 - ECPv4.8.2//NONSGML v1.0//EN
CALSCALE:GREGORIAN
METHOD:PUBLISH
X-WR-CALNAME:待光庵
X-ORIGINAL-URL:https://www.taikoan.jp
X-WR-CALDESC:Events for 待光庵
BEGIN:VEVENT
DTSTART;TZID=Asia/Tokyo:20170813T000000
DTEND;TZID=Asia/Tokyo:20170816T000000
DTSTAMP:20260422T002915
CREATED:20170620T033136Z
LAST-MODIFIED:20170712T140829Z
UID:5010-1502582400-1502841600@www.taikoan.jp
SUMMARY:夏季休暇
DESCRIPTION:
URL:https://www.taikoan.jp/event/%e5%a4%8f%e5%ad%a3%e4%bc%91%e6%9a%87/
LOCATION:待光庵\, 南区相模大野3-13-13 第2タカビル\, 相模原市\, 神奈川県\, 252-0303\, Japan
CATEGORIES:行事
END:VEVENT
END:VCALENDAR