BEGIN:VCALENDAR
VERSION:2.0
PRODID:-//待光庵 - ECPv4.8.2//NONSGML v1.0//EN
CALSCALE:GREGORIAN
METHOD:PUBLISH
X-WR-CALNAME:待光庵
X-ORIGINAL-URL:https://www.taikoan.jp
X-WR-CALDESC:Events for 待光庵
BEGIN:VEVENT
DTSTART;TZID=Asia/Tokyo:20160927T153000
DTEND;TZID=Asia/Tokyo:20160927T190000
DTSTAMP:20260423T214612
CREATED:20160812T030504Z
LAST-MODIFIED:20160904T044030Z
UID:3888-1474990200-1475002800@www.taikoan.jp
SUMMARY:外部出張稽古
DESCRIPTION:
URL:https://www.taikoan.jp/event/%e5%a4%96%e9%83%a8%e5%87%ba%e5%bc%b5%e7%a8%bd%e5%8f%a4-5/
CATEGORIES:行事
END:VEVENT
END:VCALENDAR