BEGIN:VCALENDAR
VERSION:2.0
PRODID:-//待光庵 - ECPv4.8.2//NONSGML v1.0//EN
CALSCALE:GREGORIAN
METHOD:PUBLISH
X-WR-CALNAME:待光庵
X-ORIGINAL-URL:https://www.taikoan.jp
X-WR-CALDESC:Events for 待光庵
BEGIN:VEVENT
DTSTART;VALUE=DATE:20170616
DTEND;VALUE=DATE:20170617
DTSTAMP:20260421T160720
CREATED:20170517T082245Z
LAST-MODIFIED:20170517T082245Z
UID:4847-1497571200-1497657599@www.taikoan.jp
SUMMARY:外部団体体験会
DESCRIPTION:
URL:https://www.taikoan.jp/event/%e5%a4%96%e9%83%a8%e5%9b%a3%e4%bd%93%e4%bd%93%e9%a8%93%e4%bc%9a/
LOCATION:待光庵\, 南区相模大野3-13-13 第2タカビル\, 相模原市\, 神奈川県\, 252-0303\, Japan
CATEGORIES:行事
END:VEVENT
END:VCALENDAR