BEGIN:VCALENDAR
VERSION:2.0
PRODID:-//待光庵 - ECPv4.8.2//NONSGML v1.0//EN
CALSCALE:GREGORIAN
METHOD:PUBLISH
X-WR-CALNAME:待光庵
X-ORIGINAL-URL:https://www.taikoan.jp
X-WR-CALDESC:Events for 待光庵
BEGIN:VEVENT
DTSTART;TZID=Asia/Tokyo:20251108T000000
DTEND;TZID=Asia/Tokyo:20251108T000000
DTSTAMP:20260422T231049
CREATED:20251104T034346Z
LAST-MODIFIED:20251104T034346Z
UID:13269-1762560000-1762560000@www.taikoan.jp
SUMMARY:外部稽古茶事
DESCRIPTION:
URL:https://www.taikoan.jp/event/%e5%a4%96%e9%83%a8%e7%a8%bd%e5%8f%a4%e8%8c%b6%e4%ba%8b-5/
CATEGORIES:行事
END:VEVENT
END:VCALENDAR