BEGIN:VCALENDAR
VERSION:2.0
PRODID:-//待光庵 - ECPv4.8.2//NONSGML v1.0//EN
CALSCALE:GREGORIAN
METHOD:PUBLISH
X-WR-CALNAME:待光庵
X-ORIGINAL-URL:https://www.taikoan.jp
X-WR-CALDESC:Events for 待光庵
BEGIN:VEVENT
DTSTART;TZID=Asia/Tokyo:20250916T000000
DTEND;TZID=Asia/Tokyo:20250916T000000
DTSTAMP:20260423T052815
CREATED:20250829T060040Z
LAST-MODIFIED:20250829T060040Z
UID:13148-1757980800-1757980800@www.taikoan.jp
SUMMARY:外部稽古
DESCRIPTION:
URL:https://www.taikoan.jp/event/%e5%a4%96%e9%83%a8%e7%a8%bd%e5%8f%a4-260/
CATEGORIES:行事
END:VEVENT
END:VCALENDAR