BEGIN:VCALENDAR
VERSION:2.0
PRODID:-//待光庵 - ECPv4.8.2//NONSGML v1.0//EN
CALSCALE:GREGORIAN
METHOD:PUBLISH
X-WR-CALNAME:待光庵
X-ORIGINAL-URL:https://www.taikoan.jp
X-WR-CALDESC:Events for 待光庵
BEGIN:VEVENT
DTSTART;TZID=Asia/Tokyo:20180625T164500
DTEND;TZID=Asia/Tokyo:20180625T164500
DTSTAMP:20260420T174721
CREATED:20180417T021015Z
LAST-MODIFIED:20180517T054616Z
UID:6443-1529945100-1529945100@www.taikoan.jp
SUMMARY:外部稽古
DESCRIPTION:
URL:https://www.taikoan.jp/event/%e5%a4%96%e9%83%a8%e7%a8%bd%e5%8f%a4-65/
LOCATION:芳月\, 南区相模大野3-13-13 第2タカビル\, 相模原市\, 神奈川県\, 252-0303\, Japan
CATEGORIES:行事
END:VEVENT
END:VCALENDAR