BEGIN:VCALENDAR
VERSION:2.0
PRODID:-//待光庵 - ECPv4.8.2//NONSGML v1.0//EN
CALSCALE:GREGORIAN
METHOD:PUBLISH
X-WR-CALNAME:待光庵
X-ORIGINAL-URL:https://www.taikoan.jp
X-WR-CALDESC:Events for 待光庵
BEGIN:VEVENT
DTSTART;TZID=Asia/Tokyo:20181112T170000
DTEND;TZID=Asia/Tokyo:20181112T170000
DTSTAMP:20260421T134007
CREATED:20181026T054831Z
LAST-MODIFIED:20181026T054831Z
UID:7067-1542042000-1542042000@www.taikoan.jp
SUMMARY:外部行事
DESCRIPTION:
URL:https://www.taikoan.jp/event/%e5%a4%96%e9%83%a8%e8%a1%8c%e4%ba%8b-6/
LOCATION:芳月\, 南区相模大野3-13-13 第2タカビル\, 相模原市\, 神奈川県\, 252-0303\, Japan
CATEGORIES:行事
END:VEVENT
END:VCALENDAR