BEGIN:VCALENDAR
VERSION:2.0
PRODID:-//待光庵 - ECPv4.8.2//NONSGML v1.0//EN
CALSCALE:GREGORIAN
METHOD:PUBLISH
X-WR-CALNAME:待光庵
X-ORIGINAL-URL:https://www.taikoan.jp
X-WR-CALDESC:Events for 待光庵
BEGIN:VEVENT
DTSTART;VALUE=DATE:20171006
DTEND;VALUE=DATE:20171007
DTSTAMP:20260421T204850
CREATED:20170914T062732Z
LAST-MODIFIED:20170914T065841Z
UID:5300-1507248000-1507334399@www.taikoan.jp
SUMMARY:外部行事
DESCRIPTION:
URL:https://www.taikoan.jp/event/%e5%a4%96%e9%83%a8%e8%a1%8c%e4%ba%8b/
LOCATION:外部会場
CATEGORIES:行事
END:VEVENT
END:VCALENDAR