BEGIN:VCALENDAR
VERSION:2.0
PRODID:-//待光庵 - ECPv4.8.2//NONSGML v1.0//EN
CALSCALE:GREGORIAN
METHOD:PUBLISH
X-WR-CALNAME:待光庵
X-ORIGINAL-URL:https://www.taikoan.jp
X-WR-CALDESC:Events for 待光庵
BEGIN:VEVENT
DTSTART;TZID=Asia/Tokyo:20170106T090000
DTEND;TZID=Asia/Tokyo:20170106T090000
DTSTAMP:20260421T061420
CREATED:20161015T071347Z
LAST-MODIFIED:20161231T112117Z
UID:4148-1483693200-1483693200@www.taikoan.jp
SUMMARY:子供教室-初釜前日稽古
DESCRIPTION:
URL:https://www.taikoan.jp/event/%e5%ad%90%e4%be%9b%e6%95%99%e5%ae%a4-%e5%88%9d%e9%87%9c%e5%89%8d%e6%97%a5%e7%a8%bd%e5%8f%a4/
LOCATION:芳月\, 南区相模大野3-13-13 第2タカビル\, 相模原市\, 神奈川県\, 252-0303\, Japan
CATEGORIES:茶道教室
END:VEVENT
END:VCALENDAR