BEGIN:VCALENDAR
VERSION:2.0
PRODID:-//待光庵 - ECPv4.8.2//NONSGML v1.0//EN
CALSCALE:GREGORIAN
METHOD:PUBLISH
X-WR-CALNAME:待光庵
X-ORIGINAL-URL:https://www.taikoan.jp
X-WR-CALDESC:Events for 待光庵
BEGIN:VEVENT
DTSTART;TZID=Asia/Tokyo:20170810T170000
DTEND;TZID=Asia/Tokyo:20170810T170000
DTSTAMP:20260421T225720
CREATED:20170712T140831Z
LAST-MODIFIED:20170712T140831Z
UID:5113-1502384400-1502384400@www.taikoan.jp
SUMMARY:子供教室-1
DESCRIPTION:
URL:https://www.taikoan.jp/event/%e5%ad%90%e4%be%9b%e6%95%99%e5%ae%a4-1-40/
LOCATION:直心庵\, 南区相模大野3-13-13 第2タカビル\, 相模原市\, 神奈川県\, 252-0303\, Japan
CATEGORIES:茶道教室
END:VEVENT
END:VCALENDAR