BEGIN:VCALENDAR
VERSION:2.0
PRODID:-//待光庵 - ECPv4.8.2//NONSGML v1.0//EN
CALSCALE:GREGORIAN
METHOD:PUBLISH
X-WR-CALNAME:待光庵
X-ORIGINAL-URL:https://www.taikoan.jp
X-WR-CALDESC:Events for 待光庵
BEGIN:VEVENT
DTSTART;TZID=Asia/Tokyo:19700101T000000
DTEND;TZID=Asia/Tokyo:19700101T000000
DTSTAMP:20260420T093927
CREATED:20190322T055812Z
LAST-MODIFIED:20190322T055813Z
UID:7611-0-0@www.taikoan.jp
SUMMARY:待光会ご招待茶事
DESCRIPTION:
URL:https://www.taikoan.jp/event/%e5%be%85%e5%85%89%e4%bc%9a%e3%81%94%e6%8b%9b%e5%be%85%e8%8c%b6%e4%ba%8b/
LOCATION:待光庵\, 南区相模大野3-13-13 第2タカビル\, 相模原市\, 神奈川県\, 252-0303\, Japan
CATEGORIES:行事
END:VEVENT
END:VCALENDAR