BEGIN:VCALENDAR
VERSION:2.0
PRODID:-//待光庵 - ECPv4.8.2//NONSGML v1.0//EN
CALSCALE:GREGORIAN
METHOD:PUBLISH
X-WR-CALNAME:待光庵
X-ORIGINAL-URL:https://www.taikoan.jp
X-WR-CALDESC:Events for 待光庵
BEGIN:VEVENT
DTSTART;VALUE=DATE:20140416
DTEND;VALUE=DATE:20140417
DTSTAMP:20260420T074237
CREATED:20140326T022645Z
LAST-MODIFIED:20140326T022645Z
UID:1169-1397606400-1397692799@www.taikoan.jp
SUMMARY:待光会招待茶事3-3
DESCRIPTION:
URL:https://www.taikoan.jp/event/%e5%be%85%e5%85%89%e4%bc%9a%e6%8b%9b%e5%be%85%e8%8c%b6%e4%ba%8b3-3/
CATEGORIES:行事
END:VEVENT
END:VCALENDAR