BEGIN:VCALENDAR
VERSION:2.0
PRODID:-//待光庵 - ECPv4.8.2//NONSGML v1.0//EN
CALSCALE:GREGORIAN
METHOD:PUBLISH
X-WR-CALNAME:待光庵
X-ORIGINAL-URL:https://www.taikoan.jp
X-WR-CALDESC:Events for 待光庵
BEGIN:VEVENT
DTSTART;VALUE=DATE:20140411
DTEND;VALUE=DATE:20140412
DTSTAMP:20260420T112346
CREATED:20140326T022517Z
LAST-MODIFIED:20140326T022517Z
UID:1165-1397174400-1397260799@www.taikoan.jp
SUMMARY:待光庵使用
DESCRIPTION:
URL:https://www.taikoan.jp/event/%e5%be%85%e5%85%89%e5%ba%b5%e4%bd%bf%e7%94%a8/
CATEGORIES:行事
END:VEVENT
END:VCALENDAR