BEGIN:VCALENDAR
VERSION:2.0
PRODID:-//待光庵 - ECPv4.8.2//NONSGML v1.0//EN
CALSCALE:GREGORIAN
METHOD:PUBLISH
X-WR-CALNAME:待光庵
X-ORIGINAL-URL:https://www.taikoan.jp
X-WR-CALDESC:Events for 待光庵
BEGIN:VEVENT
DTSTART;TZID=Asia/Tokyo:20170107T083000
DTEND;TZID=Asia/Tokyo:20170107T083000
DTSTAMP:20260421T094334
CREATED:20161118T044854Z
LAST-MODIFIED:20161231T114126Z
UID:4287-1483777800-1483777800@www.taikoan.jp
SUMMARY:待光庵初釜
DESCRIPTION:
URL:https://www.taikoan.jp/event/%e5%be%85%e5%85%89%e5%ba%b5%e5%88%9d%e9%87%9c-2/
LOCATION:待光庵\, 南区相模大野3-13-13 第2タカビル\, 相模原市\, 神奈川県\, 252-0303\, Japan
CATEGORIES:行事
END:VEVENT
END:VCALENDAR