BEGIN:VCALENDAR
VERSION:2.0
PRODID:-//待光庵 - ECPv4.8.2//NONSGML v1.0//EN
CALSCALE:GREGORIAN
METHOD:PUBLISH
X-WR-CALNAME:待光庵
X-ORIGINAL-URL:https://www.taikoan.jp
X-WR-CALDESC:Events for 待光庵
BEGIN:VEVENT
DTSTART;TZID=Asia/Tokyo:20161205T103000
DTEND;TZID=Asia/Tokyo:20161205T103000
DTSTAMP:20260421T152500
CREATED:20161015T071345Z
LAST-MODIFIED:20161015T071345Z
UID:4135-1480933800-1480933800@www.taikoan.jp
SUMMARY:料理教室
DESCRIPTION:
URL:https://www.taikoan.jp/event/%e6%96%99%e7%90%86%e6%95%99%e5%ae%a4-29/
LOCATION:直心庵\, 南区相模大野3-13-13 第2タカビル\, 相模原市\, 神奈川県\, 252-0303\, Japan
CATEGORIES:行事
END:VEVENT
END:VCALENDAR