BEGIN:VCALENDAR
VERSION:2.0
PRODID:-//待光庵 - ECPv4.8.2//NONSGML v1.0//EN
CALSCALE:GREGORIAN
METHOD:PUBLISH
X-WR-CALNAME:待光庵
X-ORIGINAL-URL:https://www.taikoan.jp
X-WR-CALDESC:Events for 待光庵
BEGIN:VEVENT
DTSTART;TZID=Asia/Tokyo:20170916T000000
DTEND;TZID=Asia/Tokyo:20170916T000000
DTSTAMP:20260421T231505
CREATED:20170119T134733Z
LAST-MODIFIED:20170123T095951Z
UID:4478-1505520000-1505520000@www.taikoan.jp
SUMMARY:桃夭会-3
DESCRIPTION:
URL:https://www.taikoan.jp/event/%e6%a1%83%e5%a4%ad%e4%bc%9a-3-2/
LOCATION:芳月\, 南区相模大野3-13-13 第2タカビル\, 相模原市\, 神奈川県\, 252-0303\, Japan
CATEGORIES:行事
END:VEVENT
END:VCALENDAR