BEGIN:VCALENDAR
VERSION:2.0
PRODID:-//待光庵 - ECPv4.8.2//NONSGML v1.0//EN
CALSCALE:GREGORIAN
METHOD:PUBLISH
X-WR-CALNAME:待光庵
X-ORIGINAL-URL:https://www.taikoan.jp
X-WR-CALDESC:Events for 待光庵
BEGIN:VEVENT
DTSTART;TZID=Asia/Tokyo:20150207T100000
DTEND;TZID=Asia/Tokyo:20150207T100000
DTSTAMP:20260421T084634
CREATED:20150119T044058Z
LAST-MODIFIED:20150119T045627Z
UID:2219-1423303200-1423303200@www.taikoan.jp
SUMMARY:桃夭会4-1
DESCRIPTION:
URL:https://www.taikoan.jp/event/%e6%a1%83%e5%a4%ad%e4%bc%9a4-1/
CATEGORIES:行事
END:VEVENT
END:VCALENDAR