BEGIN:VCALENDAR
VERSION:2.0
PRODID:-//待光庵 - ECPv4.8.2//NONSGML v1.0//EN
CALSCALE:GREGORIAN
METHOD:PUBLISH
X-WR-CALNAME:待光庵
X-ORIGINAL-URL:https://www.taikoan.jp
X-WR-CALDESC:Events for 待光庵
BEGIN:VEVENT
DTSTART;TZID=Asia/Tokyo:20141108T103000
DTEND;TZID=Asia/Tokyo:20141108T103000
DTSTAMP:20260422T102547
CREATED:20141024T050727Z
LAST-MODIFIED:20141024T050939Z
UID:2033-1415442600-1415442600@www.taikoan.jp
SUMMARY:桃夭会4-4
DESCRIPTION:
URL:https://www.taikoan.jp/event/%e6%a1%83%e5%a4%ad%e4%bc%9a4-4-2/
CATEGORIES:行事
END:VEVENT
END:VCALENDAR