BEGIN:VCALENDAR
VERSION:2.0
PRODID:-//待光庵 - ECPv4.8.2//NONSGML v1.0//EN
CALSCALE:GREGORIAN
METHOD:PUBLISH
X-WR-CALNAME:待光庵
X-ORIGINAL-URL:https://www.taikoan.jp
X-WR-CALDESC:Events for 待光庵
BEGIN:VEVENT
DTSTART;VALUE=DATE:20171223
DTEND;VALUE=DATE:20171224
DTSTAMP:20260421T093443
CREATED:20171115T023621Z
LAST-MODIFIED:20171115T024350Z
UID:5889-1513987200-1514073599@www.taikoan.jp
SUMMARY:淡交会相模支部茶筅供養
DESCRIPTION:
URL:https://www.taikoan.jp/event/%e6%b7%a1%e4%ba%a4%e4%bc%9a%e7%9b%b8%e6%a8%a1%e6%94%af%e9%83%a8%e8%8c%b6%e7%ad%85%e4%be%9b%e9%a4%8a/
CATEGORIES:行事
END:VEVENT
END:VCALENDAR