BEGIN:VCALENDAR
VERSION:2.0
PRODID:-//待光庵 - ECPv4.8.2//NONSGML v1.0//EN
CALSCALE:GREGORIAN
METHOD:PUBLISH
X-WR-CALNAME:待光庵
X-ORIGINAL-URL:https://www.taikoan.jp
X-WR-CALDESC:Events for 待光庵
BEGIN:VEVENT
DTSTART;VALUE=DATE:20171022
DTEND;VALUE=DATE:20171023
DTSTAMP:20260421T222747
CREATED:20170914T064915Z
LAST-MODIFIED:20170914T064915Z
UID:5319-1508630400-1508716799@www.taikoan.jp
SUMMARY:淡交会関東第三地区講演会
DESCRIPTION:
URL:https://www.taikoan.jp/event/%e6%b7%a1%e4%ba%a4%e4%bc%9a%e9%96%a2%e6%9d%b1%e7%ac%ac%e4%b8%89%e5%9c%b0%e5%8c%ba%e8%ac%9b%e6%bc%94%e4%bc%9a/
LOCATION:外部会場
CATEGORIES:行事
END:VEVENT
END:VCALENDAR