BEGIN:VCALENDAR
VERSION:2.0
PRODID:-//待光庵 - ECPv4.8.2//NONSGML v1.0//EN
CALSCALE:GREGORIAN
METHOD:PUBLISH
X-WR-CALNAME:待光庵
X-ORIGINAL-URL:https://www.taikoan.jp
X-WR-CALDESC:Events for 待光庵
BEGIN:VEVENT
DTSTART;TZID=Asia/Tokyo:20161026T100000
DTEND;TZID=Asia/Tokyo:20161026T100000
DTSTAMP:20260423T140116
CREATED:20160912T074730Z
LAST-MODIFIED:20160912T074730Z
UID:4061-1477476000-1477476000@www.taikoan.jp
SUMMARY:湿し灰・藁灰作り
DESCRIPTION:
URL:https://www.taikoan.jp/event/%e6%b9%bf%e3%81%97%e7%81%b0%e3%83%bb%e8%97%81%e7%81%b0%e4%bd%9c%e3%82%8a-3/
LOCATION:直心庵\, 南区相模大野3-13-13 第2タカビル\, 相模原市\, 神奈川県\, 252-0303\, Japan
CATEGORIES:行事
END:VEVENT
END:VCALENDAR