BEGIN:VCALENDAR
VERSION:2.0
PRODID:-//待光庵 - ECPv4.8.2//NONSGML v1.0//EN
CALSCALE:GREGORIAN
METHOD:PUBLISH
X-WR-CALNAME:待光庵
X-ORIGINAL-URL:https://www.taikoan.jp
X-WR-CALDESC:Events for 待光庵
BEGIN:VEVENT
DTSTART;TZID=Asia/Tokyo:20141207T130000
DTEND;TZID=Asia/Tokyo:20141207T130000
DTSTAMP:20260420T120434
CREATED:20141121T052922Z
LAST-MODIFIED:20141128T001514Z
UID:2103-1417957200-1417957200@www.taikoan.jp
SUMMARY:源氏物語を楽しむ会
DESCRIPTION:
URL:https://www.taikoan.jp/event/%e6%ba%90%e6%b0%8f%e7%89%a9%e8%aa%9e%e3%82%92%e6%a5%bd%e3%81%97%e3%82%80%e4%bc%9a-3/
CATEGORIES:行事
END:VEVENT
END:VCALENDAR