BEGIN:VCALENDAR
VERSION:2.0
PRODID:-//待光庵 - ECPv4.8.2//NONSGML v1.0//EN
CALSCALE:GREGORIAN
METHOD:PUBLISH
X-WR-CALNAME:待光庵
X-ORIGINAL-URL:https://www.taikoan.jp
X-WR-CALDESC:Events for 待光庵
BEGIN:VEVENT
DTSTART;VALUE=DATE:20140404
DTEND;VALUE=DATE:20140405
DTSTAMP:20260420T055211
CREATED:20140326T021949Z
LAST-MODIFIED:20140326T021949Z
UID:1161-1396569600-1396655999@www.taikoan.jp
SUMMARY:源氏物語を楽しむ会
DESCRIPTION:
URL:https://www.taikoan.jp/event/%e6%ba%90%e6%b0%8f%e7%89%a9%e8%aa%9e%e3%82%92%e6%a5%bd%e3%81%97%e3%82%80%e4%bc%9a/
CATEGORIES:行事
END:VEVENT
END:VCALENDAR