BEGIN:VCALENDAR
VERSION:2.0
PRODID:-//待光庵 - ECPv4.8.2//NONSGML v1.0//EN
CALSCALE:GREGORIAN
METHOD:PUBLISH
X-WR-CALNAME:待光庵
X-ORIGINAL-URL:https://www.taikoan.jp
X-WR-CALDESC:Events for 待光庵
BEGIN:VEVENT
DTSTART;TZID=Asia/Tokyo:20170723T100000
DTEND;TZID=Asia/Tokyo:20170723T100000
DTSTAMP:20260421T161724
CREATED:20170620T033135Z
LAST-MODIFIED:20170620T033135Z
UID:5004-1500804000-1500804000@www.taikoan.jp
SUMMARY:灰型のヒント２
DESCRIPTION:
URL:https://www.taikoan.jp/event/%e7%81%b0%e5%9e%8b%e3%81%ae%e3%83%92%e3%83%b3%e3%83%88%ef%bc%92/
LOCATION:直心庵\, 南区相模大野3-13-13 第2タカビル\, 相模原市\, 神奈川県\, 252-0303\, Japan
CATEGORIES:行事
END:VEVENT
END:VCALENDAR