BEGIN:VCALENDAR
VERSION:2.0
PRODID:-//待光庵 - ECPv4.8.2//NONSGML v1.0//EN
CALSCALE:GREGORIAN
METHOD:PUBLISH
X-WR-CALNAME:待光庵
X-ORIGINAL-URL:https://www.taikoan.jp
X-WR-CALDESC:Events for 待光庵
BEGIN:VEVENT
DTSTART;VALUE=DATE:20170122
DTEND;VALUE=DATE:20170123
DTSTAMP:20260421T094714
CREATED:20141222T104509Z
LAST-MODIFIED:20161231T114345Z
UID:2148-1485043200-1485129599@www.taikoan.jp
SUMMARY:相模支部初釜
DESCRIPTION:
URL:https://www.taikoan.jp/event/%e7%9b%b8%e6%a8%a1%e6%94%af%e9%83%a8%e5%88%9d%e9%87%9c/
CATEGORIES:行事
END:VEVENT
END:VCALENDAR