BEGIN:VCALENDAR
VERSION:2.0
PRODID:-//待光庵 - ECPv4.8.2//NONSGML v1.0//EN
CALSCALE:GREGORIAN
METHOD:PUBLISH
X-WR-CALNAME:待光庵
X-ORIGINAL-URL:https://www.taikoan.jp
X-WR-CALDESC:Events for 待光庵
BEGIN:VEVENT
DTSTART;VALUE=DATE:20170423
DTEND;VALUE=DATE:20170424
DTSTAMP:20260421T045622
CREATED:20170318T095339Z
LAST-MODIFIED:20170318T095339Z
UID:4690-1492905600-1492991999@www.taikoan.jp
SUMMARY:相模支部春季茶会
DESCRIPTION:
URL:https://www.taikoan.jp/event/%e7%9b%b8%e6%a8%a1%e6%94%af%e9%83%a8%e6%98%a5%e5%ad%a3%e8%8c%b6%e4%bc%9a-2/
LOCATION:厚木文化会館
CATEGORIES:行事
END:VEVENT
END:VCALENDAR