BEGIN:VCALENDAR
VERSION:2.0
PRODID:-//待光庵 - ECPv4.8.2//NONSGML v1.0//EN
CALSCALE:GREGORIAN
METHOD:PUBLISH
X-WR-CALNAME:待光庵
X-ORIGINAL-URL:https://www.taikoan.jp
X-WR-CALDESC:Events for 待光庵
BEGIN:VEVENT
DTSTART;TZID=Asia/Tokyo:19700101T000000
DTEND;TZID=Asia/Tokyo:19700101T000000
DTSTAMP:20260420T181255
CREATED:20170218T074003Z
LAST-MODIFIED:20170218T074003Z
UID:4544-0-0@www.taikoan.jp
SUMMARY:相模支部研究会
DESCRIPTION:
URL:https://www.taikoan.jp/event/%e7%9b%b8%e6%a8%a1%e6%94%af%e9%83%a8%e7%a0%94%e7%a9%b6%e4%bc%9a/
LOCATION:龍口寺
CATEGORIES:行事
END:VEVENT
END:VCALENDAR