BEGIN:VCALENDAR
VERSION:2.0
PRODID:-//待光庵 - ECPv4.8.2//NONSGML v1.0//EN
CALSCALE:GREGORIAN
METHOD:PUBLISH
X-WR-CALNAME:待光庵
X-ORIGINAL-URL:https://www.taikoan.jp
X-WR-CALDESC:Events for 待光庵
BEGIN:VEVENT
DTSTART;TZID=Asia/Tokyo:20251027T000000
DTEND;TZID=Asia/Tokyo:20251027T000000
DTSTAMP:20260423T005334
CREATED:20250928T003031Z
LAST-MODIFIED:20250928T003031Z
UID:13214-1761523200-1761523200@www.taikoan.jp
SUMMARY:相模支部秋季茶会
DESCRIPTION:
URL:https://www.taikoan.jp/event/%e7%9b%b8%e6%a8%a1%e6%94%af%e9%83%a8%e7%a7%8b%e5%ad%a3%e8%8c%b6%e4%bc%9a-4/
CATEGORIES:行事
END:VEVENT
END:VCALENDAR