BEGIN:VCALENDAR
VERSION:2.0
PRODID:-//待光庵 - ECPv4.8.2//NONSGML v1.0//EN
CALSCALE:GREGORIAN
METHOD:PUBLISH
X-WR-CALNAME:待光庵
X-ORIGINAL-URL:https://www.taikoan.jp
X-WR-CALDESC:Events for 待光庵
BEGIN:VEVENT
DTSTART;TZID=Asia/Tokyo:20170929T100000
DTEND;TZID=Asia/Tokyo:20170929T100000
DTSTAMP:20260422T005722
CREATED:20170712T140832Z
LAST-MODIFIED:20170811T084702Z
UID:5118-1506679200-1506679200@www.taikoan.jp
SUMMARY:花月勉強会
DESCRIPTION:
URL:https://www.taikoan.jp/event/%e8%8a%b1%e6%9c%88%e5%8b%89%e5%bc%b7%e4%bc%9a-42/
LOCATION:待光庵\, 南区相模大野3-13-13 第2タカビル\, 相模原市\, 神奈川県\, 252-0303\, Japan
CATEGORIES:行事
END:VEVENT
END:VCALENDAR