BEGIN:VCALENDAR
VERSION:2.0
PRODID:-//待光庵 - ECPv4.8.2//NONSGML v1.0//EN
CALSCALE:GREGORIAN
METHOD:PUBLISH
X-WR-CALNAME:待光庵
X-ORIGINAL-URL:https://www.taikoan.jp
X-WR-CALDESC:Events for 待光庵
BEGIN:VEVENT
DTSTART;VALUE=DATE:20140430
DTEND;VALUE=DATE:20140501
DTSTAMP:20260420T021506
CREATED:20140326T022953Z
LAST-MODIFIED:20140331T015325Z
UID:1177-1398816000-1398902399@www.taikoan.jp
SUMMARY:花月勉強会
DESCRIPTION:
URL:https://www.taikoan.jp/event/%e8%8a%b1%e6%9c%88%e5%8b%89%e5%bc%b7%e4%bc%9a/
CATEGORIES:行事
END:VEVENT
END:VCALENDAR