BEGIN:VCALENDAR
VERSION:2.0
PRODID:-//待光庵 - ECPv4.8.2//NONSGML v1.0//EN
CALSCALE:GREGORIAN
METHOD:PUBLISH
X-WR-CALNAME:待光庵
X-ORIGINAL-URL:https://www.taikoan.jp
X-WR-CALDESC:Events for 待光庵
BEGIN:VEVENT
DTSTART;TZID=Asia/Tokyo:20180219T133000
DTEND;TZID=Asia/Tokyo:20180219T133000
DTSTAMP:20260421T010218
CREATED:20171219T142609Z
LAST-MODIFIED:20180120T060535Z
UID:5979-1519047000-1519047000@www.taikoan.jp
SUMMARY:花月練習会 午後
DESCRIPTION:
URL:https://www.taikoan.jp/event/%e8%8a%b1%e6%9c%88%e7%b7%b4%e7%bf%92%e4%bc%9a-%e5%8d%88%e5%be%8c-52/
LOCATION:直心庵\, 南区相模大野3-13-13 第2タカビル\, 相模原市\, 神奈川県\, 252-0303\, Japan
CATEGORIES:行事
END:VEVENT
END:VCALENDAR