BEGIN:VCALENDAR
VERSION:2.0
PRODID:-//待光庵 - ECPv4.8.2//NONSGML v1.0//EN
CALSCALE:GREGORIAN
METHOD:PUBLISH
X-WR-CALNAME:待光庵
X-ORIGINAL-URL:https://www.taikoan.jp
X-WR-CALDESC:Events for 待光庵
BEGIN:VEVENT
DTSTART;VALUE=DATE:20140407
DTEND;VALUE=DATE:20140408
DTSTAMP:20260420T094056
CREATED:20140326T022447Z
LAST-MODIFIED:20140326T022447Z
UID:1164-1396828800-1396915199@www.taikoan.jp
SUMMARY:花月練習会
DESCRIPTION:
URL:https://www.taikoan.jp/event/%e8%8a%b1%e6%9c%88%e7%b7%b4%e7%bf%92%e4%bc%9a/
CATEGORIES:行事
END:VEVENT
END:VCALENDAR