BEGIN:VCALENDAR
VERSION:2.0
PRODID:-//待光庵 - ECPv4.8.2//NONSGML v1.0//EN
CALSCALE:GREGORIAN
METHOD:PUBLISH
X-WR-CALNAME:待光庵
X-ORIGINAL-URL:https://www.taikoan.jp
X-WR-CALDESC:Events for 待光庵
BEGIN:VEVENT
DTSTART;TZID=Asia/Tokyo:20170109T100000
DTEND;TZID=Asia/Tokyo:20170109T170000
DTSTAMP:20260421T132324
CREATED:20161015T071346Z
LAST-MODIFIED:20161231T112501Z
UID:4138-1483956000-1483981200@www.taikoan.jp
SUMMARY:芳月会初釜（土・夜組）
DESCRIPTION:
URL:https://www.taikoan.jp/event/%e8%8a%b3%e6%9c%88%e4%bc%9a%e5%88%9d%e9%87%9c%ef%bc%88%e5%9c%9f%e3%83%bb%e5%a4%9c%e7%b5%84%ef%bc%89/
LOCATION:待光庵\, 南区相模大野3-13-13 第2タカビル\, 相模原市\, 神奈川県\, 252-0303\, Japan
CATEGORIES:茶道教室
END:VEVENT
END:VCALENDAR