BEGIN:VCALENDAR
VERSION:2.0
PRODID:-//待光庵 - ECPv4.8.2//NONSGML v1.0//EN
CALSCALE:GREGORIAN
METHOD:PUBLISH
X-WR-CALNAME:待光庵
X-ORIGINAL-URL:https://www.taikoan.jp
X-WR-CALDESC:Events for 待光庵
BEGIN:VEVENT
DTSTART;TZID=Asia/Tokyo:20180819T120000
DTEND;TZID=Asia/Tokyo:20180819T120000
DTSTAMP:20260421T034615
CREATED:20180620T083658Z
LAST-MODIFIED:20180620T083658Z
UID:6746-1534680000-1534680000@www.taikoan.jp
SUMMARY:芳月会土夜-奥伝
DESCRIPTION:
URL:https://www.taikoan.jp/event/%e8%8a%b3%e6%9c%88%e4%bc%9a%e5%9c%9f%e5%a4%9c-%e5%a5%a5%e4%bc%9d-2/
LOCATION:直心庵\, 南区相模大野3-13-13 第2タカビル\, 相模原市\, 神奈川県\, 252-0303\, Japan
CATEGORIES:茶道教室
END:VEVENT
END:VCALENDAR