BEGIN:VCALENDAR
VERSION:2.0
PRODID:-//待光庵 - ECPv4.8.2//NONSGML v1.0//EN
CALSCALE:GREGORIAN
METHOD:PUBLISH
X-WR-CALNAME:待光庵
X-ORIGINAL-URL:https://www.taikoan.jp
X-WR-CALDESC:Events for 待光庵
BEGIN:VEVENT
DTSTART;TZID=Asia/Tokyo:20181103T100000
DTEND;TZID=Asia/Tokyo:20181103T100000
DTSTAMP:20260421T130931
CREATED:20181026T054826Z
LAST-MODIFIED:20181026T054826Z
UID:7058-1541239200-1541239200@www.taikoan.jp
SUMMARY:芳月会土昼-1（炉開き）
DESCRIPTION:
URL:https://www.taikoan.jp/event/%e8%8a%b3%e6%9c%88%e4%bc%9a%e5%9c%9f%e6%98%bc-1%ef%bc%88%e7%82%89%e9%96%8b%e3%81%8d%ef%bc%89-3/
LOCATION:直心庵\, 南区相模大野3-13-13 第2タカビル\, 相模原市\, 神奈川県\, 252-0303\, Japan
CATEGORIES:茶道教室
END:VEVENT
END:VCALENDAR