BEGIN:VCALENDAR
VERSION:2.0
PRODID:-//待光庵 - ECPv4.8.2//NONSGML v1.0//EN
CALSCALE:GREGORIAN
METHOD:PUBLISH
X-WR-CALNAME:待光庵
X-ORIGINAL-URL:https://www.taikoan.jp
X-WR-CALDESC:Events for 待光庵
BEGIN:VEVENT
DTSTART;VALUE=DATE:20140405
DTEND;VALUE=DATE:20140406
DTSTAMP:20260420T060311
CREATED:20140326T023153Z
LAST-MODIFIED:20140326T023153Z
UID:1179-1396656000-1396742399@www.taikoan.jp
SUMMARY:芳月会土昼-1
DESCRIPTION:
URL:https://www.taikoan.jp/event/%e8%8a%b3%e6%9c%88%e4%bc%9a%e5%9c%9f%e6%98%bc-1/
CATEGORIES:茶道教室
END:VEVENT
END:VCALENDAR