BEGIN:VCALENDAR
VERSION:2.0
PRODID:-//待光庵 - ECPv4.8.2//NONSGML v1.0//EN
CALSCALE:GREGORIAN
METHOD:PUBLISH
X-WR-CALNAME:待光庵
X-ORIGINAL-URL:https://www.taikoan.jp
X-WR-CALDESC:Events for 待光庵
BEGIN:VEVENT
DTSTART;TZID=Asia/Tokyo:20180225T100000
DTEND;TZID=Asia/Tokyo:20180225T100000
DTSTAMP:20260421T010325
CREATED:20180120T060612Z
LAST-MODIFIED:20180124T042839Z
UID:6073-1519552800-1519552800@www.taikoan.jp
SUMMARY:芳月会夜組-大炉の茶事
DESCRIPTION:
URL:https://www.taikoan.jp/event/%e8%8a%b3%e6%9c%88%e4%bc%9a%e5%a4%9c%e7%b5%84-%e5%a4%a7%e7%82%89%e3%81%ae%e8%8c%b6%e4%ba%8b/
LOCATION:静幸庵\, 南区御園3-16-15\, 相模原市\, 神奈川県\, Japan
CATEGORIES:茶道教室
END:VEVENT
END:VCALENDAR