BEGIN:VCALENDAR
VERSION:2.0
PRODID:-//待光庵 - ECPv4.8.2//NONSGML v1.0//EN
CALSCALE:GREGORIAN
METHOD:PUBLISH
X-WR-CALNAME:待光庵
X-ORIGINAL-URL:https://www.taikoan.jp
X-WR-CALDESC:Events for 待光庵
BEGIN:VEVENT
DTSTART;TZID=Asia/Tokyo:20170305T090000
DTEND;TZID=Asia/Tokyo:20170305T090000
DTSTAMP:20260420T182336
CREATED:20170218T074838Z
LAST-MODIFIED:20170218T075146Z
UID:4565-1488704400-1488704400@www.taikoan.jp
SUMMARY:芳月会奥伝（土・夜組）-1
DESCRIPTION:
URL:https://www.taikoan.jp/event/%e8%8a%b3%e6%9c%88%e4%bc%9a%e5%a5%a5%e4%bc%9d%ef%bc%88%e5%9c%9f%e3%83%bb%e5%a4%9c%e7%b5%84%ef%bc%89-1-3/
LOCATION:直心庵\, 南区相模大野3-13-13 第2タカビル\, 相模原市\, 神奈川県\, 252-0303\, Japan
CATEGORIES:茶道教室
END:VEVENT
END:VCALENDAR