BEGIN:VCALENDAR
VERSION:2.0
PRODID:-//待光庵 - ECPv4.8.2//NONSGML v1.0//EN
CALSCALE:GREGORIAN
METHOD:PUBLISH
X-WR-CALNAME:待光庵
X-ORIGINAL-URL:https://www.taikoan.jp
X-WR-CALDESC:Events for 待光庵
BEGIN:VEVENT
DTSTART;VALUE=DATE:20140410
DTEND;VALUE=DATE:20140411
DTSTAMP:20260420T131230
CREATED:20140326T023316Z
LAST-MODIFIED:20140326T023316Z
UID:1183-1397088000-1397174399@www.taikoan.jp
SUMMARY:芳月会子供クラス-1
DESCRIPTION:
URL:https://www.taikoan.jp/event/%e8%8a%b3%e6%9c%88%e4%bc%9a%e5%ad%90%e4%be%9b%e3%82%af%e3%83%a9%e3%82%b9-1/
CATEGORIES:茶道教室
END:VEVENT
END:VCALENDAR